BEGIN:VCALENDAR
VERSION:2.0
PRODID:-//LINC - ECPv6.15.20//NONSGML v1.0//EN
CALSCALE:GREGORIAN
METHOD:PUBLISH
X-ORIGINAL-URL:https://yourlinc.org
X-WR-CALDESC:Events for LINC
REFRESH-INTERVAL;VALUE=DURATION:PT1H
X-Robots-Tag:noindex
X-PUBLISHED-TTL:PT1H
BEGIN:VTIMEZONE
TZID:America/Chicago
BEGIN:DAYLIGHT
TZOFFSETFROM:-0600
TZOFFSETTO:-0500
TZNAME:CDT
DTSTART:20220313T080000
END:DAYLIGHT
BEGIN:STANDARD
TZOFFSETFROM:-0500
TZOFFSETTO:-0600
TZNAME:CST
DTSTART:20221106T070000
END:STANDARD
BEGIN:DAYLIGHT
TZOFFSETFROM:-0600
TZOFFSETTO:-0500
TZNAME:CDT
DTSTART:20230312T080000
END:DAYLIGHT
BEGIN:STANDARD
TZOFFSETFROM:-0500
TZOFFSETTO:-0600
TZNAME:CST
DTSTART:20231105T070000
END:STANDARD
BEGIN:DAYLIGHT
TZOFFSETFROM:-0600
TZOFFSETTO:-0500
TZNAME:CDT
DTSTART:20240310T080000
END:DAYLIGHT
BEGIN:STANDARD
TZOFFSETFROM:-0500
TZOFFSETTO:-0600
TZNAME:CST
DTSTART:20241103T070000
END:STANDARD
BEGIN:DAYLIGHT
TZOFFSETFROM:-0600
TZOFFSETTO:-0500
TZNAME:CDT
DTSTART:20250309T080000
END:DAYLIGHT
BEGIN:STANDARD
TZOFFSETFROM:-0500
TZOFFSETTO:-0600
TZNAME:CST
DTSTART:20251102T070000
END:STANDARD
END:VTIMEZONE
BEGIN:VEVENT
DTSTART;TZID=America/Chicago:20240226T173000
DTEND;TZID=America/Chicago:20240226T193000
DTSTAMP:20260424T102545
CREATED:20240206T161623Z
LAST-MODIFIED:20240206T162018Z
UID:3028-1708968600-1708975800@yourlinc.org
SUMMARY:Legal Training--Seasons Family Support Center
DESCRIPTION:This training will focus on common legal questions for foster\, adoptive\, and kinship populations. It will cover topics such as subsidized vs unsubsidized adoption\, guardianship\, conservatorship\, and funding options for adoption/guardianship. Participant questions are welcome. This training will be held virtually via Zoom from 5:30pm-7:30pm on Monday\, February 26. It will be facilitated in partnership with attorney Phil De Koster of De Koster & De Koster Law Firm alongside Gina Touney and others of Iowa HHS. This training is applicable for both professionals working with foster/adoptive/kinship children and families as well as families themselves. *Disclaimer: This training is not meant to serve as legal advice for attendees but as an educational resource for information that may be helpful when providing care to children in out of home placement or kinship care. Register HERE
URL:https://yourlinc.org/event/legal-training-seasons-family-support-center/
LOCATION:Online
CATEGORIES:Training
END:VEVENT
BEGIN:VEVENT
DTSTART;TZID=America/Chicago:20230705T090000
DTEND;TZID=America/Chicago:20230705T170000
DTSTAMP:20260424T102545
CREATED:20230630T153725Z
LAST-MODIFIED:20250702T185011Z
UID:2497-1688547600-1688576400@yourlinc.org
SUMMARY:Clay County Public Health Childhood Immunization Clinic
DESCRIPTION:Located on the 2nd floor. Closed over the noon hour. Registration: https://www.clay-vax-clinic.as.me/schedule.php
URL:https://yourlinc.org/event/clay-county-public-health-childhood-immunization-clinic/
LOCATION:Medical Arts Building\, 116 E 11th St.\, Suite 206\, Spencer\, IA\, 51301\, United States
CATEGORIES:Public Health
END:VEVENT
BEGIN:VEVENT
DTSTART;TZID=America/Chicago:20230705T090000
DTEND;TZID=America/Chicago:20230705T170000
DTSTAMP:20260424T102545
CREATED:20230630T153725Z
LAST-MODIFIED:20250702T185011Z
UID:2497-1688547600-1688576400@yourlinc.org
SUMMARY:Clay County Public Health Childhood Immunization Clinic
DESCRIPTION:Located on the 2nd floor. Closed over the noon hour. Registration: https://www.clay-vax-clinic.as.me/schedule.php
URL:https://yourlinc.org/event/clay-county-public-health-childhood-immunization-clinic/
LOCATION:Medical Arts Building\, 116 E 11th St.\, Suite 206\, Spencer\, IA\, 51301\, United States
CATEGORIES:Public Health
END:VEVENT
BEGIN:VEVENT
DTSTART;TZID=America/Chicago:20231108T150000
DTEND;TZID=America/Chicago:20231108T161500
DTSTAMP:20260424T102545
CREATED:20231027T164506Z
LAST-MODIFIED:20231027T164833Z
UID:2844-1699455600-1699460100@yourlinc.org
SUMMARY:Family ECHO: Autism
DESCRIPTION:Family ECHO: Autism is a virtual learning program for families and caregivers raising children with autism. The sessions are designed to shift medical and behavioral information from the clinic into the hands of parents and caregivers so they can learn to better support and care for their autistic children. Session topics have been chosen based on input from participants. Family ECHO: Autism connects families with an interdisciplinary panel of experts from the Autism Care Network. The series is designed to increase autism knowledge\, build leadership skills for managing interdisciplinary care teams\, and provide strategies that can be applied by families and their teams. A list of session topics is found on the event website.  \nEligible participants will register to participate in a 75-minute Zoom session. Each session will include:\n• Presentation from subject experts on critical topics and best practices related to autism\n• An interactive discussion about a clinical case study\n• A Q&A with the presenter and an opportunity to provide feedback\n• Resources relevant to the session \nTo be eligible to participate in a Family ECHO session\, you must fall into one of these groups:\n• A family member of a child or young adult with autism\n• Professional working in the field of autism\n• Both a family member and a professional working in the field of autism
URL:https://yourlinc.org/event/family-echo-autism/
LOCATION:Online
CATEGORIES:Educational
END:VEVENT
BEGIN:VEVENT
DTSTART;TZID=America/Chicago:20240228T190000
DTEND;TZID=America/Chicago:20240228T200000
DTSTAMP:20260424T102545
CREATED:20240208T205211Z
LAST-MODIFIED:20240208T205211Z
UID:3033-1709146800-1709150400@yourlinc.org
SUMMARY:Spouse Support Group--First Responders Foundation
DESCRIPTION:The Spouse Support Group is a clinician-led group open to spouses/significant others and adult family members of first responders. Individuals are welcome to join the group anytime. Enjoy time together with others living the first responder family life.  Discover skills\, support\, and understanding of how to best thrive and deal with unique family challenges.  Facilitated by the First Responders Foundation Behavioral Health Team. For more information and Zoom link\, please email FRST@firstrespondersfoundation.org.
URL:https://yourlinc.org/event/spouse-support-group-first-responders-foundation/
LOCATION:Online
CATEGORIES:Support Group
ORGANIZER;CN="First Responders Foundation":MAILTO:FRST@firstrespondersfoundation.org
END:VEVENT
BEGIN:VEVENT
DTSTART;TZID=America/Chicago:20231109T050000
DTEND;TZID=America/Chicago:20231109T183000
DTSTAMP:20260424T102545
CREATED:20231101T161434Z
LAST-MODIFIED:20231101T161434Z
UID:2862-1699506000-1699554600@yourlinc.org
SUMMARY:His Hands Extended Clothing Outreach
DESCRIPTION:
URL:https://yourlinc.org/event/his-hands-extended-clothing-outreach/
LOCATION:Grand Ave Community Outreach\, 605 Grand Ave\, Spencer\, IA\, 51301\, United States
CATEGORIES:Outreach Services
END:VEVENT
BEGIN:VEVENT
DTSTART;TZID=America/Chicago:20230525T170000
DTEND;TZID=America/Chicago:20230525T183000
DTSTAMP:20260424T102545
CREATED:20230523T183321Z
LAST-MODIFIED:20250702T185012Z
UID:2155-1685034000-1685039400@yourlinc.org
SUMMARY:Grand Avenue Community Kitchen
DESCRIPTION:
URL:https://yourlinc.org/event/grand-avenue-community-kitchen/
LOCATION:Grand Ave Community Outreach\, 605 Grand Ave\, Spencer\, IA\, 51301\, United States
END:VEVENT
BEGIN:VEVENT
DTSTART;TZID=America/Chicago:20240229T180000
DTEND;TZID=America/Chicago:20240229T210000
DTSTAMP:20260424T102545
CREATED:20240124T180820Z
LAST-MODIFIED:20240124T180820Z
UID:3008-1709229600-1709240400@yourlinc.org
SUMMARY:UDMO DJ Bingo Night
DESCRIPTION:Join Upper Des Moines Opportunity for a night of fun to raise money for Clay County UDMO Outreach! Tickets must be purchased in advance by February 26th ($30 individual or $100 table of 4). Doors open at 6pm. To purchase tickets or if you have questions\, please contact Clay County UDMO Outreach at 712-262-7409 or ddahm@udmo.com.
URL:https://yourlinc.org/event/udmo-dj-bingo-night/
LOCATION:Spencer Municipal Clubhouse\, 1320 4th Ave SW\, Spencer\, IA\, 51301\, United States
CATEGORIES:Outreach Services
END:VEVENT
BEGIN:VEVENT
DTSTART;TZID=America/Chicago:20231006T130000
DTEND;TZID=America/Chicago:20231006T140000
DTSTAMP:20260424T102545
CREATED:20231003T213642Z
LAST-MODIFIED:20240131T195150Z
UID:2782-1696597200-1696600800@yourlinc.org
SUMMARY:Geri Fit at Spencer Public Library
DESCRIPTION:Senior Chair Fitness with weights. Every Monday and Friday at 1:00 PM. Spots are limited. To reserve a spot or for more information\, contact Robin at 712-262-7290.
URL:https://yourlinc.org/event/geri-fit-at-spencer-public-library-2/
LOCATION:Spencer Public Library\, 21 E 3rd St\, Spencer\, 51301\, United States
END:VEVENT
BEGIN:VEVENT
DTSTART;TZID=America/Chicago:20231006T130000
DTEND;TZID=America/Chicago:20231006T140000
DTSTAMP:20260424T102545
CREATED:20231003T213642Z
LAST-MODIFIED:20240131T195150Z
UID:2782-1696597200-1696600800@yourlinc.org
SUMMARY:Geri Fit at Spencer Public Library
DESCRIPTION:Senior Chair Fitness with weights. Every Monday and Friday at 1:00 PM. Spots are limited. To reserve a spot or for more information\, contact Robin at 712-262-7290.
URL:https://yourlinc.org/event/geri-fit-at-spencer-public-library-2/
LOCATION:Spencer Public Library\, 21 E 3rd St\, Spencer\, 51301\, United States
END:VEVENT
BEGIN:VEVENT
DTSTART;TZID=America/Chicago:20230525T170000
DTEND;TZID=America/Chicago:20230525T183000
DTSTAMP:20260424T102545
CREATED:20230523T183321Z
LAST-MODIFIED:20250702T185012Z
UID:2155-1685034000-1685039400@yourlinc.org
SUMMARY:Grand Avenue Community Kitchen
DESCRIPTION:
URL:https://yourlinc.org/event/grand-avenue-community-kitchen/
LOCATION:Grand Ave Community Outreach\, 605 Grand Ave\, Spencer\, IA\, 51301\, United States
END:VEVENT
BEGIN:VEVENT
DTSTART;TZID=America/Chicago:20240304T180000
DTEND;TZID=America/Chicago:20240304T200000
DTSTAMP:20260424T102545
CREATED:20240227T205611Z
LAST-MODIFIED:20240227T205611Z
UID:3054-1709575200-1709582400@yourlinc.org
SUMMARY:GriefShare
DESCRIPTION:GriefShare is a safe\, welcoming place where people understand the difficult emotions of grief. Through this 13-week group\, you’ll discover what to expect in the days ahead and what’s “normal” in grief. Since there are no neat\, orderly stages of grief\, you’ll learn helpful ways of coping with grief\, in all its unpredictability—and gain solid support each step of the way. Classes are held in-person and childcare can be arranged. Cost is $25 for a handbook and scholarships are available. For more information and registration\, contact the church at 712.262.4392 or visit https://www.griefshare.org/groups/184565
URL:https://yourlinc.org/event/griefshare/
LOCATION:First Congregational Church\, 1212 1st Ave E\, Spencer\, 51301\, United States
CATEGORIES:Support Group
END:VEVENT
BEGIN:VEVENT
DTSTART;TZID=America/Chicago:20230705T090000
DTEND;TZID=America/Chicago:20230705T170000
DTSTAMP:20260424T102545
CREATED:20230630T153725Z
LAST-MODIFIED:20250702T185011Z
UID:2497-1688547600-1688576400@yourlinc.org
SUMMARY:Clay County Public Health Childhood Immunization Clinic
DESCRIPTION:Located on the 2nd floor. Closed over the noon hour. Registration: https://www.clay-vax-clinic.as.me/schedule.php
URL:https://yourlinc.org/event/clay-county-public-health-childhood-immunization-clinic/
LOCATION:Medical Arts Building\, 116 E 11th St.\, Suite 206\, Spencer\, IA\, 51301\, United States
CATEGORIES:Public Health
END:VEVENT
BEGIN:VEVENT
DTSTART;TZID=America/Chicago:20230705T090000
DTEND;TZID=America/Chicago:20230705T170000
DTSTAMP:20260424T102545
CREATED:20230630T153725Z
LAST-MODIFIED:20250702T185011Z
UID:2497-1688547600-1688576400@yourlinc.org
SUMMARY:Clay County Public Health Childhood Immunization Clinic
DESCRIPTION:Located on the 2nd floor. Closed over the noon hour. Registration: https://www.clay-vax-clinic.as.me/schedule.php
URL:https://yourlinc.org/event/clay-county-public-health-childhood-immunization-clinic/
LOCATION:Medical Arts Building\, 116 E 11th St.\, Suite 206\, Spencer\, IA\, 51301\, United States
CATEGORIES:Public Health
END:VEVENT
BEGIN:VEVENT
DTSTART;TZID=America/Chicago:20230802T190000
DTEND;TZID=America/Chicago:20230802T200000
DTSTAMP:20260424T102545
CREATED:20230706T154602Z
LAST-MODIFIED:20230706T154602Z
UID:2511-1691002800-1691006400@yourlinc.org
SUMMARY:Suicide Grief Support Group
DESCRIPTION:This group offers a safe\, confidential support group to anyone (age 18+) surviving the loss of a loved one through suicide.  This group will meet monthly on the first Wednesday of the month at St. Mark Lutheran Church\, Storm Lake\, from 7-8pm.  For more information\, please email Casey Orth-Nebitt at conebitt@icloud.com or Willa Casstevens at wjcass@gmail.com
URL:https://yourlinc.org/event/suicide-grief-support-group/
LOCATION:St. Mark Lutheran Church\, 1614 W 5th St Suite 2\, Storm Lake\, IA\, 50588\, United States
END:VEVENT
BEGIN:VEVENT
DTSTART;TZID=America/Chicago:20231109T050000
DTEND;TZID=America/Chicago:20231109T183000
DTSTAMP:20260424T102545
CREATED:20231101T161434Z
LAST-MODIFIED:20231101T161434Z
UID:2862-1699506000-1699554600@yourlinc.org
SUMMARY:His Hands Extended Clothing Outreach
DESCRIPTION:
URL:https://yourlinc.org/event/his-hands-extended-clothing-outreach/
LOCATION:Grand Ave Community Outreach\, 605 Grand Ave\, Spencer\, IA\, 51301\, United States
CATEGORIES:Outreach Services
END:VEVENT
BEGIN:VEVENT
DTSTART;TZID=America/Chicago:20230525T170000
DTEND;TZID=America/Chicago:20230525T183000
DTSTAMP:20260424T102545
CREATED:20230523T183321Z
LAST-MODIFIED:20250702T185012Z
UID:2155-1685034000-1685039400@yourlinc.org
SUMMARY:Grand Avenue Community Kitchen
DESCRIPTION:
URL:https://yourlinc.org/event/grand-avenue-community-kitchen/
LOCATION:Grand Ave Community Outreach\, 605 Grand Ave\, Spencer\, IA\, 51301\, United States
END:VEVENT
BEGIN:VEVENT
DTSTART;TZID=America/Chicago:20231006T130000
DTEND;TZID=America/Chicago:20231006T140000
DTSTAMP:20260424T102545
CREATED:20231003T213642Z
LAST-MODIFIED:20240131T195150Z
UID:2782-1696597200-1696600800@yourlinc.org
SUMMARY:Geri Fit at Spencer Public Library
DESCRIPTION:Senior Chair Fitness with weights. Every Monday and Friday at 1:00 PM. Spots are limited. To reserve a spot or for more information\, contact Robin at 712-262-7290.
URL:https://yourlinc.org/event/geri-fit-at-spencer-public-library-2/
LOCATION:Spencer Public Library\, 21 E 3rd St\, Spencer\, 51301\, United States
END:VEVENT
BEGIN:VEVENT
DTSTART;TZID=America/Chicago:20231006T130000
DTEND;TZID=America/Chicago:20231006T140000
DTSTAMP:20260424T102545
CREATED:20231003T213642Z
LAST-MODIFIED:20240131T195150Z
UID:2782-1696597200-1696600800@yourlinc.org
SUMMARY:Geri Fit at Spencer Public Library
DESCRIPTION:Senior Chair Fitness with weights. Every Monday and Friday at 1:00 PM. Spots are limited. To reserve a spot or for more information\, contact Robin at 712-262-7290.
URL:https://yourlinc.org/event/geri-fit-at-spencer-public-library-2/
LOCATION:Spencer Public Library\, 21 E 3rd St\, Spencer\, 51301\, United States
END:VEVENT
BEGIN:VEVENT
DTSTART;TZID=America/Chicago:20230525T170000
DTEND;TZID=America/Chicago:20230525T183000
DTSTAMP:20260424T102545
CREATED:20230523T183321Z
LAST-MODIFIED:20250702T185012Z
UID:2155-1685034000-1685039400@yourlinc.org
SUMMARY:Grand Avenue Community Kitchen
DESCRIPTION:
URL:https://yourlinc.org/event/grand-avenue-community-kitchen/
LOCATION:Grand Ave Community Outreach\, 605 Grand Ave\, Spencer\, IA\, 51301\, United States
END:VEVENT
BEGIN:VEVENT
DTSTART;TZID=America/Chicago:20240304T180000
DTEND;TZID=America/Chicago:20240304T200000
DTSTAMP:20260424T102545
CREATED:20240227T205611Z
LAST-MODIFIED:20240227T205611Z
UID:3054-1709575200-1709582400@yourlinc.org
SUMMARY:GriefShare
DESCRIPTION:GriefShare is a safe\, welcoming place where people understand the difficult emotions of grief. Through this 13-week group\, you’ll discover what to expect in the days ahead and what’s “normal” in grief. Since there are no neat\, orderly stages of grief\, you’ll learn helpful ways of coping with grief\, in all its unpredictability—and gain solid support each step of the way. Classes are held in-person and childcare can be arranged. Cost is $25 for a handbook and scholarships are available. For more information and registration\, contact the church at 712.262.4392 or visit https://www.griefshare.org/groups/184565
URL:https://yourlinc.org/event/griefshare/
LOCATION:First Congregational Church\, 1212 1st Ave E\, Spencer\, 51301\, United States
CATEGORIES:Support Group
END:VEVENT
BEGIN:VEVENT
DTSTART;TZID=America/Chicago:20230705T090000
DTEND;TZID=America/Chicago:20230705T170000
DTSTAMP:20260424T102545
CREATED:20230630T153725Z
LAST-MODIFIED:20250702T185011Z
UID:2497-1688547600-1688576400@yourlinc.org
SUMMARY:Clay County Public Health Childhood Immunization Clinic
DESCRIPTION:Located on the 2nd floor. Closed over the noon hour. Registration: https://www.clay-vax-clinic.as.me/schedule.php
URL:https://yourlinc.org/event/clay-county-public-health-childhood-immunization-clinic/
LOCATION:Medical Arts Building\, 116 E 11th St.\, Suite 206\, Spencer\, IA\, 51301\, United States
CATEGORIES:Public Health
END:VEVENT
BEGIN:VEVENT
DTSTART;TZID=America/Chicago:20230705T090000
DTEND;TZID=America/Chicago:20230705T170000
DTSTAMP:20260424T102545
CREATED:20230630T153725Z
LAST-MODIFIED:20250702T185011Z
UID:2497-1688547600-1688576400@yourlinc.org
SUMMARY:Clay County Public Health Childhood Immunization Clinic
DESCRIPTION:Located on the 2nd floor. Closed over the noon hour. Registration: https://www.clay-vax-clinic.as.me/schedule.php
URL:https://yourlinc.org/event/clay-county-public-health-childhood-immunization-clinic/
LOCATION:Medical Arts Building\, 116 E 11th St.\, Suite 206\, Spencer\, IA\, 51301\, United States
CATEGORIES:Public Health
END:VEVENT
BEGIN:VEVENT
DTSTART;TZID=America/Chicago:20231109T050000
DTEND;TZID=America/Chicago:20231109T183000
DTSTAMP:20260424T102545
CREATED:20231101T161434Z
LAST-MODIFIED:20231101T161434Z
UID:2862-1699506000-1699554600@yourlinc.org
SUMMARY:His Hands Extended Clothing Outreach
DESCRIPTION:
URL:https://yourlinc.org/event/his-hands-extended-clothing-outreach/
LOCATION:Grand Ave Community Outreach\, 605 Grand Ave\, Spencer\, IA\, 51301\, United States
CATEGORIES:Outreach Services
END:VEVENT
BEGIN:VEVENT
DTSTART;TZID=America/Chicago:20230525T170000
DTEND;TZID=America/Chicago:20230525T183000
DTSTAMP:20260424T102545
CREATED:20230523T183321Z
LAST-MODIFIED:20250702T185012Z
UID:2155-1685034000-1685039400@yourlinc.org
SUMMARY:Grand Avenue Community Kitchen
DESCRIPTION:
URL:https://yourlinc.org/event/grand-avenue-community-kitchen/
LOCATION:Grand Ave Community Outreach\, 605 Grand Ave\, Spencer\, IA\, 51301\, United States
END:VEVENT
BEGIN:VEVENT
DTSTART;TZID=America/Chicago:20231006T130000
DTEND;TZID=America/Chicago:20231006T140000
DTSTAMP:20260424T102545
CREATED:20231003T213642Z
LAST-MODIFIED:20240131T195150Z
UID:2782-1696597200-1696600800@yourlinc.org
SUMMARY:Geri Fit at Spencer Public Library
DESCRIPTION:Senior Chair Fitness with weights. Every Monday and Friday at 1:00 PM. Spots are limited. To reserve a spot or for more information\, contact Robin at 712-262-7290.
URL:https://yourlinc.org/event/geri-fit-at-spencer-public-library-2/
LOCATION:Spencer Public Library\, 21 E 3rd St\, Spencer\, 51301\, United States
END:VEVENT
BEGIN:VEVENT
DTSTART;TZID=America/Chicago:20231006T130000
DTEND;TZID=America/Chicago:20231006T140000
DTSTAMP:20260424T102545
CREATED:20231003T213642Z
LAST-MODIFIED:20240131T195150Z
UID:2782-1696597200-1696600800@yourlinc.org
SUMMARY:Geri Fit at Spencer Public Library
DESCRIPTION:Senior Chair Fitness with weights. Every Monday and Friday at 1:00 PM. Spots are limited. To reserve a spot or for more information\, contact Robin at 712-262-7290.
URL:https://yourlinc.org/event/geri-fit-at-spencer-public-library-2/
LOCATION:Spencer Public Library\, 21 E 3rd St\, Spencer\, 51301\, United States
END:VEVENT
BEGIN:VEVENT
DTSTART;TZID=America/Chicago:20230525T170000
DTEND;TZID=America/Chicago:20230525T183000
DTSTAMP:20260424T102545
CREATED:20230523T183321Z
LAST-MODIFIED:20250702T185012Z
UID:2155-1685034000-1685039400@yourlinc.org
SUMMARY:Grand Avenue Community Kitchen
DESCRIPTION:
URL:https://yourlinc.org/event/grand-avenue-community-kitchen/
LOCATION:Grand Ave Community Outreach\, 605 Grand Ave\, Spencer\, IA\, 51301\, United States
END:VEVENT
BEGIN:VEVENT
DTSTART;TZID=America/Chicago:20240304T180000
DTEND;TZID=America/Chicago:20240304T200000
DTSTAMP:20260424T102545
CREATED:20240227T205611Z
LAST-MODIFIED:20240227T205611Z
UID:3054-1709575200-1709582400@yourlinc.org
SUMMARY:GriefShare
DESCRIPTION:GriefShare is a safe\, welcoming place where people understand the difficult emotions of grief. Through this 13-week group\, you’ll discover what to expect in the days ahead and what’s “normal” in grief. Since there are no neat\, orderly stages of grief\, you’ll learn helpful ways of coping with grief\, in all its unpredictability—and gain solid support each step of the way. Classes are held in-person and childcare can be arranged. Cost is $25 for a handbook and scholarships are available. For more information and registration\, contact the church at 712.262.4392 or visit https://www.griefshare.org/groups/184565
URL:https://yourlinc.org/event/griefshare/
LOCATION:First Congregational Church\, 1212 1st Ave E\, Spencer\, 51301\, United States
CATEGORIES:Support Group
END:VEVENT
BEGIN:VEVENT
DTSTART;TZID=America/Chicago:20231016T183000
DTEND;TZID=America/Chicago:20231016T203000
DTSTAMP:20260424T102545
CREATED:20230911T163231Z
LAST-MODIFIED:20230911T163231Z
UID:2714-1697481000-1697488200@yourlinc.org
SUMMARY:Abben Cancer Support Group
DESCRIPTION:This support group is for patients of Abben Cancer Center\, family members\, friends\, and survivors of all cancers to attend.
URL:https://yourlinc.org/event/abben-cancer-support-group/
LOCATION:Abben Cancer Center Resource Room\, 1200 1st Ave E\, Spencer\, IA\, 51301\, United States
CATEGORIES:Support Group
ATTACH;FMTTYPE=image/png:https://yourlinc.org/wp-content/uploads/2023/06/logo.png
END:VEVENT
END:VCALENDAR