BEGIN:VCALENDAR
VERSION:2.0
PRODID:-//LINC - ECPv6.15.20//NONSGML v1.0//EN
CALSCALE:GREGORIAN
METHOD:PUBLISH
X-ORIGINAL-URL:https://yourlinc.org
X-WR-CALDESC:Events for LINC
REFRESH-INTERVAL;VALUE=DURATION:PT1H
X-Robots-Tag:noindex
X-PUBLISHED-TTL:PT1H
BEGIN:VTIMEZONE
TZID:America/Chicago
BEGIN:DAYLIGHT
TZOFFSETFROM:-0600
TZOFFSETTO:-0500
TZNAME:CDT
DTSTART:20220313T080000
END:DAYLIGHT
BEGIN:STANDARD
TZOFFSETFROM:-0500
TZOFFSETTO:-0600
TZNAME:CST
DTSTART:20221106T070000
END:STANDARD
BEGIN:DAYLIGHT
TZOFFSETFROM:-0600
TZOFFSETTO:-0500
TZNAME:CDT
DTSTART:20230312T080000
END:DAYLIGHT
BEGIN:STANDARD
TZOFFSETFROM:-0500
TZOFFSETTO:-0600
TZNAME:CST
DTSTART:20231105T070000
END:STANDARD
BEGIN:DAYLIGHT
TZOFFSETFROM:-0600
TZOFFSETTO:-0500
TZNAME:CDT
DTSTART:20240310T080000
END:DAYLIGHT
BEGIN:STANDARD
TZOFFSETFROM:-0500
TZOFFSETTO:-0600
TZNAME:CST
DTSTART:20241103T070000
END:STANDARD
END:VTIMEZONE
BEGIN:VEVENT
DTSTART;TZID=America/Chicago:20230705T090000
DTEND;TZID=America/Chicago:20230705T170000
DTSTAMP:20260424T044848
CREATED:20230630T153725Z
LAST-MODIFIED:20250702T185011Z
UID:2497-1688547600-1688576400@yourlinc.org
SUMMARY:Clay County Public Health Childhood Immunization Clinic
DESCRIPTION:Located on the 2nd floor. Closed over the noon hour. Registration: https://www.clay-vax-clinic.as.me/schedule.php
URL:https://yourlinc.org/event/clay-county-public-health-childhood-immunization-clinic/
LOCATION:Medical Arts Building\, 116 E 11th St.\, Suite 206\, Spencer\, IA\, 51301\, United States
CATEGORIES:Public Health
END:VEVENT
BEGIN:VEVENT
DTSTART;TZID=America/Chicago:20231108T150000
DTEND;TZID=America/Chicago:20231108T161500
DTSTAMP:20260424T044848
CREATED:20231027T164506Z
LAST-MODIFIED:20231027T164833Z
UID:2844-1699455600-1699460100@yourlinc.org
SUMMARY:Family ECHO: Autism
DESCRIPTION:Family ECHO: Autism is a virtual learning program for families and caregivers raising children with autism. The sessions are designed to shift medical and behavioral information from the clinic into the hands of parents and caregivers so they can learn to better support and care for their autistic children. Session topics have been chosen based on input from participants. Family ECHO: Autism connects families with an interdisciplinary panel of experts from the Autism Care Network. The series is designed to increase autism knowledge\, build leadership skills for managing interdisciplinary care teams\, and provide strategies that can be applied by families and their teams. A list of session topics is found on the event website.  \nEligible participants will register to participate in a 75-minute Zoom session. Each session will include:\n• Presentation from subject experts on critical topics and best practices related to autism\n• An interactive discussion about a clinical case study\n• A Q&A with the presenter and an opportunity to provide feedback\n• Resources relevant to the session \nTo be eligible to participate in a Family ECHO session\, you must fall into one of these groups:\n• A family member of a child or young adult with autism\n• Professional working in the field of autism\n• Both a family member and a professional working in the field of autism
URL:https://yourlinc.org/event/family-echo-autism/
LOCATION:Online
CATEGORIES:Educational
END:VEVENT
BEGIN:VEVENT
DTSTART;TZID=America/Chicago:20230802T190000
DTEND;TZID=America/Chicago:20230802T200000
DTSTAMP:20260424T044848
CREATED:20230706T154602Z
LAST-MODIFIED:20230706T154602Z
UID:2511-1691002800-1691006400@yourlinc.org
SUMMARY:Suicide Grief Support Group
DESCRIPTION:This group offers a safe\, confidential support group to anyone (age 18+) surviving the loss of a loved one through suicide.  This group will meet monthly on the first Wednesday of the month at St. Mark Lutheran Church\, Storm Lake\, from 7-8pm.  For more information\, please email Casey Orth-Nebitt at conebitt@icloud.com or Willa Casstevens at wjcass@gmail.com
URL:https://yourlinc.org/event/suicide-grief-support-group/
LOCATION:St. Mark Lutheran Church\, 1614 W 5th St Suite 2\, Storm Lake\, IA\, 50588\, United States
END:VEVENT
END:VCALENDAR